BEGIN:VCALENDAR
VERSION:2.0
PRODID:-//Browns Bay Boating Club - ECPv4.6.21//NONSGML v1.0//EN
CALSCALE:GREGORIAN
METHOD:PUBLISH
X-WR-CALNAME:Browns Bay Boating Club
X-ORIGINAL-URL:https://bbbc.co.nz
X-WR-CALDESC:Events for Browns Bay Boating Club
BEGIN:VEVENT
DTSTART;TZID=UTC+0:20180512T080000
DTEND;TZID=UTC+0:20180512T170000
DTSTAMP:20181221T204136
CREATED:20180321T190249Z
LAST-MODIFIED:20180321T190249Z
UID:198-1526112000-1526144400@bbbc.co.nz
SUMMARY:Mokihinau Charter
DESCRIPTION:We are planning another Charter to the Mokihinau Islands to chase the Kingi’s before they head out wide for winter. We have space for up to 12 Fisho’s – first in first served. \nDetails will be confirmed closer to the date\, approx $180 per person\, Thor Charters\, departing Leigh Saturday 12th May 2018. Contact Ian at clubcapt@bbbc.co.nz if interested.  \n
URL:https://bbbc.co.nz/event/mokihinau-charter/
CATEGORIES:Social Events
END:VEVENT
END:VCALENDAR