BEGIN:VCALENDAR
VERSION:2.0
PRODID:-//Browns Bay Boating Club - ECPv4.6.21//NONSGML v1.0//EN
CALSCALE:GREGORIAN
METHOD:PUBLISH
X-WR-CALNAME:Browns Bay Boating Club
X-ORIGINAL-URL:https://bbbc.co.nz
X-WR-CALDESC:Events for Browns Bay Boating Club
BEGIN:VEVENT
DTSTART;TZID=UTC+0:20200514T080000
DTEND;TZID=UTC+0:20200527T170000
DTSTAMP:20210121T195706
CREATED:20200512T051712Z
LAST-MODIFIED:20200512T051712Z
UID:322-1589443200-1590598800@bbbc.co.nz
SUMMARY:Tractors usage notice to Members under Covid-19 Level 2 from Thursday 14th May 2020 - Conditions of use.
DESCRIPTION:Covid-19 Alert Level 2 – BBBC measures  \nAhoy Members.\nEffective 11.59pm Wednesday 13th May\, the Government announced New Zealand will move to Covid19 Alert Level 2. This move has been considered by BBBC Committee and the decision has been made to put both tractors back into operation from that time. \nThere are specific elements of the move to Level 2 that we MUST comply with\, namely:\n        The need to maintain social distancing\n        The need to clean and disinfect\n        The need to provide contact tracing\n        The need to limit social groups to less than 10 persons \nThe following MANDATORY measures have been put in place to keep members safe: \nIf you feel unwell\, have sore throat\, or any flu like symptoms\, do NOT enter the shed or use any equipment and you MUST seek further guidance from your Health professional.\nMembers MUST maintain a distance of 2m from any person you don’t know whilst using the tractors and boat preparation area.\nMembers MUST follow the instructions posted in the boat shed on hand sanitising\, tractor disinfecting and hand washing.\nMembers MUST sanitise hands before and after use of equipment – hand sanitiser pump bottles will be located on each tractor and at log book.\nMembers MUST spray common contact points eg steering wheel\, gear lever’s\, hand brake\, winch controller\, sign-in pen etc before and after use of equipment – disinfectant spray bottles will be located on each tractor and at log book\nMembers MUST complete the dedicated Covid-19 Tractor log book in place requiring Tractor user\, Rego car\, Boat name\, contact number\, Sanitised in and out.\nMembers MUST acknowledge in the specified column in the Tractor log requiring members to confirm they have used hand sanitiser and disinfectant before and after use of any equipment.\nThe maximum number of people allowed at any one time at the facility is 10. This would mean only 2 boats launching or retrieving in the Rigging area at any one time. Members MUST queue if necessary outside the rigging area and wait until they can enter.\nAlways back the boat up to the Skate park fence – there is plenty of room for 2 boats/trailers in the space\nTake the boat/trailer as far back to the fence as you can – this gives plenty of turning circle for the 2nd car/boat to access the space. \nNote1 :\nThe internal Marine Centre toilets are out of bounds but the external Public toilets will be available for use.\nNote 2:\nCommittee members will be on sight to confirm adherence to these requirements but in their absence we will be relying on our members to do the right thing\, follow the instructions and keep safe. Any Club members able to assist with the monitoring of these requirements should contact colinc@orcon.net.nz. \nAnyone requiring more information or clarification on any of these measures should contact Colin Chisholm\, BBBC Commodore 021 650638. \nBBBC Committee – 12/5/2020 \n
URL:https://bbbc.co.nz/event/tractors-usage-notice-to-members-under-covid-19-level-2-from-thursday-14th-may-2020-conditions-of-use/
LOCATION:Beachfront Lane\, Browns Bay\, Auckland\, 0630\, New Zealand
CATEGORIES:Social Events
END:VEVENT
END:VCALENDAR