BEGIN:VCALENDAR
VERSION:2.0
PRODID:-//Browns Bay Boating Club - ECPv4.6.21//NONSGML v1.0//EN
CALSCALE:GREGORIAN
METHOD:PUBLISH
X-WR-CALNAME:Browns Bay Boating Club
X-ORIGINAL-URL:https://bbbc.co.nz
X-WR-CALDESC:Events for Browns Bay Boating Club
BEGIN:VEVENT
DTSTART;TZID=UTC+0:20180210T180000
DTEND;TZID=UTC+0:20180210T220000
DTSTAMP:20210120T031253
CREATED:20180112T223746Z
LAST-MODIFIED:20180112T223746Z
UID:178-1518285600-1518300000@bbbc.co.nz
SUMMARY:Ribs Night!
DESCRIPTION:Join us at the Boat Club for a Barbeque Ribs night\, delicious Spare Ribs dowsed in different marinades and Barbequed onsite by our team of Barbeque Gourmet Chefs.\nDoors and Bar open at 6pm for 7pm eating.\nTight Lines\nOrganising Committee  \n
URL:https://bbbc.co.nz/event/ribs-night/
CATEGORIES:Social Events
END:VEVENT
END:VCALENDAR