BEGIN:VCALENDAR
VERSION:2.0
PRODID:-//Browns Bay Boating Club - ECPv4.6.21//NONSGML v1.0//EN
CALSCALE:GREGORIAN
METHOD:PUBLISH
X-WR-CALNAME:Browns Bay Boating Club
X-ORIGINAL-URL:https://bbbc.co.nz
X-WR-CALDESC:Events for Browns Bay Boating Club
BEGIN:VEVENT
DTSTART;TZID=UTC+0:20191012T190000
DTEND;TZID=UTC+0:20191012T233000
DTSTAMP:20210120T031426
CREATED:20190823T222243Z
LAST-MODIFIED:20190823T222243Z
UID:286-1570906800-1570923000@bbbc.co.nz
SUMMARY:Game of Chance - Casino event
DESCRIPTION:Calling all Card Sharks\, Gamblers\, Poker Faces\, Rouletters\, and Dice Shysters\, take a punt on our second “Game of Chance “Casino Night” Sat 12 October 2019\, Bar open from 6.30pm\, starting at 7pm\, Browns Bay Marine Centre.\nThis will be fun\, please bring a plate for finger food continuous supper\, and small per person cover charge to buy your chips. Lots of good prizes to auction off at end of the night. This is a fundraising event\, with funds donated in support of Harbour Hospice again – last year we raised $830\, and we are keen to top $1000 this year.\nMembers and Friends welcome\, but we do need to ensure aged 18+ to play by the rules.To reserve your chips\, please RSVP to Clubcapt@bbbc.co.nz by Saturday 5th October. \n
URL:https://bbbc.co.nz/event/game-of-chance-casino-event/
LOCATION:Beachfront Lane\, Browns Bay\, Auckland\, 0630\, New Zealand
CATEGORIES:Social Events
END:VEVENT
END:VCALENDAR