BEGIN:VCALENDAR
VERSION:2.0
PRODID:-//Browns Bay Boating Club - ECPv4.6.21//NONSGML v1.0//EN
CALSCALE:GREGORIAN
METHOD:PUBLISH
X-WR-CALNAME:Browns Bay Boating Club
X-ORIGINAL-URL:https://bbbc.co.nz
X-WR-CALDESC:Events for Browns Bay Boating Club
BEGIN:VEVENT
DTSTART;TZID=UTC+0:20171202T150000
DTEND;TZID=UTC+0:20171202T190000
DTSTAMP:20210120T032008
CREATED:20171120T013124Z
LAST-MODIFIED:20171120T013402Z
UID:163-1512226800-1512241200@bbbc.co.nz
SUMMARY:Browns Bay Xmas Parade
DESCRIPTION:XMAS PARADE Saturday 2nd Dec 2017\n2/12/2017 – last year another great effort and to be followed this year with a Super Hero theme – so get the kids dressed up and come and join the parade.\nWe’ll be sorting the boat at the rigging area from 3pm – need to be lined up by 4.30pm and then it commences at 5pm.\nEmail commodore@bbbc.co.nz if you can attend. \n
URL:https://bbbc.co.nz/event/browns-bay-xmas-parade/
LOCATION:Beachfront Lane\, Browns Bay\, Auckland\, 0630\, New Zealand
CATEGORIES:Social Events
END:VEVENT
END:VCALENDAR