BEGIN:VCALENDAR
VERSION:2.0
PRODID:-//Browns Bay Boating Club - ECPv4.6.21//NONSGML v1.0//EN
CALSCALE:GREGORIAN
METHOD:PUBLISH
X-WR-CALNAME:Browns Bay Boating Club
X-ORIGINAL-URL:https://bbbc.co.nz
X-WR-CALDESC:Events for Browns Bay Boating Club
BEGIN:VEVENT
DTSTART;TZID=UTC+0:20191207T150000
DTEND;TZID=UTC+0:20191207T170000
DTSTAMP:20210120T031420
CREATED:20190923T054302Z
LAST-MODIFIED:20190923T054302Z
UID:294-1575730800-1575738000@bbbc.co.nz
SUMMARY:Browns Bay Xmas Parade
DESCRIPTION:Watch out for Facebook and Mail Chimp correspondence for our entry into the Browns Bay Xmas Parade scheduled for Saturday 7 Dec 2019. Looking for volunteers to help decorate boat and participate in the Parade. \n
URL:https://bbbc.co.nz/event/browns-bay-xmas-parade-2/
LOCATION:Beachfront Lane\, Browns Bay\, Auckland\, 0630\, New Zealand
CATEGORIES:Social Events
END:VEVENT
END:VCALENDAR