BEGIN:VCALENDAR
VERSION:2.0
PRODID:-//Browns Bay Boating Club - ECPv4.6.21//NONSGML v1.0//EN
CALSCALE:GREGORIAN
METHOD:PUBLISH
X-WR-CALNAME:Browns Bay Boating Club
X-ORIGINAL-URL:https://bbbc.co.nz
X-WR-CALDESC:Events for Browns Bay Boating Club
BEGIN:VEVENT
DTSTART;TZID=UTC+0:20200723T193000
DTEND;TZID=UTC+0:20200723T213000
DTSTAMP:20210121T195727
CREATED:20200615T190018Z
LAST-MODIFIED:20200615T190018Z
UID:327-1595532600-1595539800@bbbc.co.nz
SUMMARY:Browns Bay Boating Club - AGM 2020
DESCRIPTION:Dear Member\,\nThe AGM for the BBBC is approaching and we would like you to note this date on your calendar and look forward to seeing you at the Marine Centre.\nThe full notice is below: \nBrowns Bay Boating Club (“Club”) AGM \nWhen:                  7.30pm Thursday\, 23 July 2020\nWhere:                 Browns Bay Boating Club\n                             Beach Front Lane\n                             Browns Bay\nClick attached link below for notice\, Nomination form for Officers and Committee Members\, and Remit notification Form \nBBBC AGM – Notice of meeting AGM 2020 \n
URL:https://bbbc.co.nz/event/browns-bay-boating-club-agm-2020/
LOCATION:Beachfront Lane\, Browns Bay\, Auckland\, 0630\, New Zealand
CATEGORIES:Meetings
END:VEVENT
END:VCALENDAR