BEGIN:VCALENDAR
VERSION:2.0
PRODID:-//Browns Bay Boating Club - ECPv4.6.21//NONSGML v1.0//EN
CALSCALE:GREGORIAN
METHOD:PUBLISH
X-WR-CALNAME:Browns Bay Boating Club
X-ORIGINAL-URL:https://bbbc.co.nz
X-WR-CALDESC:Events for Browns Bay Boating Club
BEGIN:VEVENT
DTSTART;TZID=UTC+0:20180121T160000
DTEND;TZID=UTC+0:20180121T180000
DTSTAMP:20210120T031250
CREATED:20180118T042014Z
LAST-MODIFIED:20180118T042014Z
UID:183-1516550400-1516557600@bbbc.co.nz
SUMMARY:Beach Picnic Cancelled\, Sunday Drinks to restart.
DESCRIPTION:The Organising Committee are going to make an early call to cancel this Sunday’s beach picnic. The North Easterly Doctor is just too unpredictable\, so safety first and the event has been cancelled. Instead\, we will be opening the Club Rooms and Bar from 4pm to 6pm this Sunday 21st January to welcome in the New Year and chat about the legends of the sea landed during the break. \n
URL:https://bbbc.co.nz/event/beach-picnic-cancelled-sunday-drinks-to-restart/
CATEGORIES:Social Events
END:VEVENT
END:VCALENDAR