BEGIN:VCALENDAR
VERSION:2.0
PRODID:-//Browns Bay Boating Club - ECPv4.6.21//NONSGML v1.0//EN
CALSCALE:GREGORIAN
METHOD:PUBLISH
X-WR-CALNAME:Browns Bay Boating Club
X-ORIGINAL-URL:https://bbbc.co.nz
X-WR-CALDESC:Events for Browns Bay Boating Club
BEGIN:VEVENT
DTSTART;TZID=UTC+0:20190629T183000
DTEND;TZID=UTC+0:20190629T233000
DTSTAMP:20210120T031847
CREATED:20190617T062213Z
LAST-MODIFIED:20190617T062213Z
UID:281-1561833000-1561851000@bbbc.co.nz
SUMMARY:BBBC Wine\, Cheese\, Craft Beers\, Gourmet Pies event 29th June 2019
DESCRIPTION:Ahoy Wine and Cheese lovers.\nCan you believe it’s a year since our last cheese and wine gathering. As the nights get longer and the winter chill bites deeper a glass or two (or three\, or four you get the drift) of wine keeps those pains away. This year we’ve decided to add some craft beers to the evening so there will be amber liquid to sample and enjoy too. We’ll have crackers and biscuits to accompany the cheese and wines plus this year we’re adding some gourmet pies to match the craft beers.\nIan and Steven have again put their livers on the line to ensure they match our previous years attempts to delight and hope that you can join us for another evening of fun.\nYour taste buds may never be the same again.\nSo join us at 6-30 pm on the 29th June at the Marine Centre. Costs will be the same as the last 2 years at $25.00 per head.\nPlease RSVP by replying to this email\, or text to Colin on 021 650638 by 22nd June to confirm your spot. \nRegards\nBBBC Committee. \n
URL:https://bbbc.co.nz/event/bbbc-wine-cheese-craft-beers-gourmet-pies-event-29th-june-2019/
LOCATION:Beachfront Lane\, Browns Bay\, Auckland\, 0630\, New Zealand
CATEGORIES:Social Events
END:VEVENT
END:VCALENDAR