BEGIN:VCALENDAR
VERSION:2.0
PRODID:-//Browns Bay Boating Club - ECPv4.6.21//NONSGML v1.0//EN
CALSCALE:GREGORIAN
METHOD:PUBLISH
X-WR-CALNAME:Browns Bay Boating Club
X-ORIGINAL-URL:https://bbbc.co.nz
X-WR-CALDESC:Events for Browns Bay Boating Club
BEGIN:VEVENT
DTSTART;TZID=UTC+0:20200325T233000
DTEND;TZID=UTC+0:20200426T233000
DTSTAMP:20210121T195655
CREATED:20200324T233946Z
LAST-MODIFIED:20200324T233946Z
UID:319-1585179000-1587943800@bbbc.co.nz
SUMMARY:BBBC Tractors not to be used until further notice
DESCRIPTION:Ahoy all – Tractors Not to be used.\nThe committee have been asked what the status of the Tractors are during the current Virus crisis and Lockdown.\nSimply they cannot be used by any member. This comes into force from midnight tonight 25th March 2020 and will remain in force until further notice. \nWhy?\nThe tractor has communal use by members – the virus can be transmitted via the surfaces of the tractor between users.\nCoastguard have requested all boaties to stay on land and not put all at risk.\nSo please note as above and communicate to all members. \nThe exception is Coastguard using CMantis if they are required to attend a Callout.  \nThe committee wish all members and families a safe and uneventful lock down. \nAll the best \nColin Chisholm\nCommodore on behalf of committee\n021650638 \n
URL:https://bbbc.co.nz/event/bbbc-tractors-not-to-be-used-until-further-notice/
LOCATION:Beachfront Lane\, Browns Bay\, Auckland\, 0630\, New Zealand
CATEGORIES:Social Events
END:VEVENT
END:VCALENDAR