BEGIN:VCALENDAR
VERSION:2.0
PRODID:-//Browns Bay Boating Club - ECPv4.6.21//NONSGML v1.0//EN
CALSCALE:GREGORIAN
METHOD:PUBLISH
X-WR-CALNAME:Browns Bay Boating Club
X-ORIGINAL-URL:https://bbbc.co.nz
X-WR-CALDESC:Events for Browns Bay Boating Club
BEGIN:VEVENT
DTSTART;TZID=UTC+0:20190127T120000
DTEND;TZID=UTC+0:20190127T140000
DTSTAMP:20210120T031749
CREATED:20190125T195724Z
LAST-MODIFIED:20190125T195724Z
UID:242-1548590400-1548597600@bbbc.co.nz
SUMMARY:BBBC Summer Beach Picnic
DESCRIPTION:Join us for a Summer Beach Picnic somewhere in the Waitemata Harbour or Gulf Sunday 27th Jan 2019 around midday. High Tide early afternoon\, so good opportunity to invite a few fish home for dinner as well. The organisers will watch the weather forecast and suggest a suitable beach to meet up for lunch via Mail Chimp the evening before the event. Regards Committee  \n
URL:https://bbbc.co.nz/event/bbbc-summer-beach-picnic/
LOCATION:Beachfront Lane\, Browns Bay\, Auckland\, 0630\, New Zealand
CATEGORIES:Social Events
END:VEVENT
END:VCALENDAR