BEGIN:VCALENDAR
VERSION:2.0
PRODID:-//Browns Bay Boating Club - ECPv4.6.21//NONSGML v1.0//EN
CALSCALE:GREGORIAN
METHOD:PUBLISH
X-WR-CALNAME:Browns Bay Boating Club
X-ORIGINAL-URL:https://bbbc.co.nz
X-WR-CALDESC:Events for Browns Bay Boating Club
BEGIN:VEVENT
DTSTART;TZID=UTC+0:20191006T100000
DTEND;TZID=UTC+0:20191006T160000
DTSTAMP:20210120T031453
CREATED:20190823T221544Z
LAST-MODIFIED:20190823T221544Z
UID:284-1570356000-1570377600@bbbc.co.nz
SUMMARY:BBBC Open Day\, Annual Subs\, Boat Checks\, Barbeque
DESCRIPTION:BBBC Open day Sunday 6 Oct 2019\, 10am to noon\, 2pm to 4pm\, come on down to pay your Annual Subs\, meet the Committee\, complete boat checks if required.\nBarbeque and Bar open for the afternoon session \n
URL:https://bbbc.co.nz/event/bbbc-open-day-annual-subs-boat-checks-barbeque/
LOCATION:Beachfront Lane\, Browns Bay\, Auckland\, 0630\, New Zealand
CATEGORIES:Social Events
END:VEVENT
END:VCALENDAR