BEGIN:VCALENDAR
VERSION:2.0
PRODID:-//Browns Bay Boating Club - ECPv4.6.21//NONSGML v1.0//EN
CALSCALE:GREGORIAN
METHOD:PUBLISH
X-WR-CALNAME:Browns Bay Boating Club
X-ORIGINAL-URL:https://bbbc.co.nz
X-WR-CALDESC:Events for Browns Bay Boating Club
BEGIN:VEVENT
DTSTART;TZID=UTC+0:20200718T180000
DTEND;TZID=UTC+0:20200718T233000
DTSTAMP:20210121T195714
CREATED:20200713T055842Z
LAST-MODIFIED:20200713T055842Z
UID:335-1595095200-1595115000@bbbc.co.nz
SUMMARY:BBBC event - Annual Ribs Nite and Hoe Down
DESCRIPTION:Hi All\, \nOur first outing is the Ribs night \nSaturday 18th July\, 6pm start \n$20 per cowgirl or cowboy \nVisit the Watering hole for a Budweiser or a decent beer\, wine …. \nCash bar  \nThink Country and Western\, stick a hat on your head\, check shirt\, jeans and boots if you gottem. \nWe’ll try to keep music on theme.  \nRSVP to colinc@orcon.net.nz to book your spot – we love to see you all. \nLocation: Local Barn – ala Marine Centre \n
URL:https://bbbc.co.nz/event/bbbc-event-annual-ribs-nite-and-hoe-down/
LOCATION:Beachfront Lane\, Browns Bay\, Auckland\, 0630\, New Zealand
CATEGORIES:Social Events
END:VEVENT
END:VCALENDAR