BEGIN:VCALENDAR
VERSION:2.0
PRODID:-//Browns Bay Boating Club - ECPv4.6.21//NONSGML v1.0//EN
CALSCALE:GREGORIAN
METHOD:PUBLISH
X-WR-CALNAME:Browns Bay Boating Club
X-ORIGINAL-URL:https://bbbc.co.nz
X-WR-CALDESC:Events for Browns Bay Boating Club
BEGIN:VEVENT
DTSTART;TZID=UTC+0:20180726T193000
DTEND;TZID=UTC+0:20180726T213000
DTSTAMP:20210120T030810
CREATED:20180620T182523Z
LAST-MODIFIED:20180620T182523Z
UID:215-1532633400-1532640600@bbbc.co.nz
SUMMARY:BBBC Annual General Meeting (AGM)
DESCRIPTION:BBBC AGM and refreshments at Browns Bay Marine Centre Browns Bay. Watch out for mail chimp and Facebook posts for documentation. There are vacancies on Committee\, please call Warren King on 021 826715 if interested. \n
URL:https://bbbc.co.nz/event/bbbc-annual-general-meeting-agm/
LOCATION:Beachfront Lane\, Browns Bay\, Auckland\, 0630\, New Zealand
CATEGORIES:Meetings
END:VEVENT
END:VCALENDAR