BEGIN:VCALENDAR
VERSION:2.0
PRODID:-//Browns Bay Boating Club - ECPv4.6.21//NONSGML v1.0//EN
CALSCALE:GREGORIAN
METHOD:PUBLISH
X-WR-CALNAME:Browns Bay Boating Club
X-ORIGINAL-URL:https://bbbc.co.nz
X-WR-CALDESC:Events for Browns Bay Boating Club
BEGIN:VEVENT
DTSTART;TZID=UTC+0:20191117T150000
DTEND;TZID=UTC+0:20191117T170000
DTSTAMP:20210120T031157
CREATED:20191116T042537Z
LAST-MODIFIED:20191116T042537Z
UID:304-1574002800-1574010000@bbbc.co.nz
SUMMARY:BBBC Annual Competition is postponed until further notice
DESCRIPTION:Ahoy all\,\nConfirming the Browns Bay Boating Club Annual Fishing Comp that was scheduled for tomorrow Sunday 17th Nov is postponed until further notice. Met Service today 5pm update for the Gulf is ………………………..\nSunday – Northwest 15 knots rising to northerly 20 knots around midday and to 25 knots gusting 35 knots in the afternoon. Sea becoming rough in the afternoon. Cloud increasing\, poor visibility in drizzle from evening.\nInstead\, Ian will open the Bar 3pm to 5pm in the Clubrooms so we can talk about the one that did get away. \nThe Organising Committee \n
URL:https://bbbc.co.nz/event/bbbc-annual-competition-is-postponed-until-further-notice/
LOCATION:Beachfront Lane\, Browns Bay\, Auckland\, 0630\, New Zealand
CATEGORIES:Social Events
END:VEVENT
END:VCALENDAR