BEGIN:VCALENDAR
VERSION:2.0
PRODID:-//Browns Bay Boating Club - ECPv4.6.21//NONSGML v1.0//EN
CALSCALE:GREGORIAN
METHOD:PUBLISH
X-WR-CALNAME:Browns Bay Boating Club
X-ORIGINAL-URL:https://bbbc.co.nz
X-WR-CALDESC:Events for Browns Bay Boating Club
BEGIN:VEVENT
DTSTART;VALUE=DATE:20200208
DTEND;VALUE=DATE:20200209
DTSTAMP:20210120T030710
CREATED:20200206T042102Z
LAST-MODIFIED:20200206T042102Z
UID:316-1581120000-1581206399@bbbc.co.nz
SUMMARY:BBBC Annual Comp Sat 8th and Sun 9th Feb
DESCRIPTION:In an effort to hold the BBBC Annual Fishing Comp this weekend\, the Committee is going to try something alittle different!\nThis year’s comp will run on both Saturday 8th and Sunday 9th of Feb.\nWeigh in for Saturday 8th will be at 3.30pm to 4.30pm Saturday at the Marine Centre\, and Weigh in for Sunday 9th will be at 3.30pm to 4.30pm Sunday. Committee will then total up both days catch and conduct the prize giving.\nAt this stage\, the weather looks better for Saturday\, however we recognise that Saturday does not suit everyone\, hence including Sunday as well.\nWatch out for Mail Chimp weather updates around 5pm prior to Saturday and Sunday’s event. \nplease see below PDF document to download and print out the Rules and Entry Form…………… \nAnnual Fishing Competition_2_Feb_2020_Entry Form \n
URL:https://bbbc.co.nz/event/bbbc-annual-comp-sat-8th-and-sun-9th-feb/
LOCATION:Beachfront Lane\, Browns Bay\, Auckland\, 0630\, New Zealand
CATEGORIES:Social Events
END:VEVENT
END:VCALENDAR