BEGIN:VCALENDAR
VERSION:2.0
PRODID:-//Browns Bay Boating Club - ECPv4.6.21//NONSGML v1.0//EN
CALSCALE:GREGORIAN
METHOD:PUBLISH
X-WR-CALNAME:Browns Bay Boating Club
X-ORIGINAL-URL:https://bbbc.co.nz
X-WR-CALDESC:Events for Browns Bay Boating Club
BEGIN:VEVENT
DTSTART;TZID=UTC+0:20181111T060000
DTEND;TZID=UTC+0:20181111T150000
DTSTAMP:20210120T031035
CREATED:20180816T075002Z
LAST-MODIFIED:20181103T222815Z
UID:221-1541916000-1541948400@bbbc.co.nz
SUMMARY:Annual Fishing Competition
DESCRIPTION:Join us for the Browns Bay Annual Fishing Competition – watch up on Mail Chimp and Facebook for more information on this event. Yes\, usually November is when we hold our Spring Fishing Comp\, however we have had lots of feedback that the fishing is better in November – so lets do it! \nIf the weather is dodgy\, this will be rescheduled to Sunday 18th Nov – again\, notifications will be via the website\, facebook and mail chimp \nPlease find the entry form and competition rules using the below link. \nAnnual Fishing Comp Rules and Entry Form Nov 2018 \n
URL:https://bbbc.co.nz/event/annual-fishing-competition/
CATEGORIES:Social Events
END:VEVENT
END:VCALENDAR