BEGIN:VCALENDAR
VERSION:2.0
PRODID:-//Browns Bay Boating Club - ECPv4.6.21//NONSGML v1.0//EN
CALSCALE:GREGORIAN
METHOD:PUBLISH
X-WR-CALNAME:Browns Bay Boating Club
X-ORIGINAL-URL:https://bbbc.co.nz
X-WR-CALDESC:Events for Browns Bay Boating Club
BEGIN:VEVENT
DTSTART;TZID=UTC+0:20200723T190000
DTEND;TZID=UTC+0:20200723T210000
DTSTAMP:20210121T195720
CREATED:20200707T054708Z
LAST-MODIFIED:20200707T054708Z
UID:332-1595530800-1595538000@bbbc.co.nz
SUMMARY:AGM 2020 - Annual report document
DESCRIPTION:For a copy of the BBBC AGM 2020 Annual Report – please click the link below to download the document \nAGM 2020 – BBBC Annual Report_Final \n
URL:https://bbbc.co.nz/event/agm-2020-annual-report-document/
CATEGORIES:Meetings
END:VEVENT
END:VCALENDAR